BEGIN:VCALENDAR
VERSION:2.0
PRODID:-//FSGT 29 - ECPv6.15.12.2//NONSGML v1.0//EN
CALSCALE:GREGORIAN
METHOD:PUBLISH
X-WR-CALNAME:FSGT 29
X-ORIGINAL-URL:https://29.fsgt.org
X-WR-CALDESC:Évènements pour FSGT 29
REFRESH-INTERVAL;VALUE=DURATION:PT1H
X-Robots-Tag:noindex
X-PUBLISHED-TTL:PT1H
BEGIN:VTIMEZONE
TZID:Europe/Paris
BEGIN:DAYLIGHT
TZOFFSETFROM:+0100
TZOFFSETTO:+0200
TZNAME:CEST
DTSTART:20240331T010000
END:DAYLIGHT
BEGIN:STANDARD
TZOFFSETFROM:+0200
TZOFFSETTO:+0100
TZNAME:CET
DTSTART:20241027T010000
END:STANDARD
BEGIN:DAYLIGHT
TZOFFSETFROM:+0100
TZOFFSETTO:+0200
TZNAME:CEST
DTSTART:20250330T010000
END:DAYLIGHT
BEGIN:STANDARD
TZOFFSETFROM:+0200
TZOFFSETTO:+0100
TZNAME:CET
DTSTART:20251026T010000
END:STANDARD
BEGIN:DAYLIGHT
TZOFFSETFROM:+0100
TZOFFSETTO:+0200
TZNAME:CEST
DTSTART:20260329T010000
END:DAYLIGHT
BEGIN:STANDARD
TZOFFSETFROM:+0200
TZOFFSETTO:+0100
TZNAME:CET
DTSTART:20261025T010000
END:STANDARD
END:VTIMEZONE
BEGIN:VEVENT
DTSTART;TZID=Europe/Paris:20250920T180000
DTEND;TZID=Europe/Paris:20250920T233000
DTSTAMP:20260422T232155
CREATED:20250901T131750Z
LAST-MODIFIED:20250901T142007Z
UID:3052-1758391200-1758411000@29.fsgt.org
SUMMARY:Tournoi de la Rentrée - Gars du Reun
DESCRIPTION:La 6eme édition du Tournoi de la Rentrée aura lieu de Samedi 20 septembre 2025 ! \n\n\n\nPréparez vous pour une soirée pleine de volley à la Salle Omnisport Charcot de Guipavas. \n\n\n\nDétails de l’évènement : \n\n\n\n Équipes : 6×6 mixte \n\n\n\n Participation : 5€ par personne \n\n\n\n Date : Samedi 20 Septembre 2025 à 18H \n\n\n\n Lieu : Salle Omnisport Charcot\, Guipavas \n\n\n\n Restauration et buvette sur place \n\n\n\nTout les paiements pourront être effectué par carte ou en espèces \n\n\n\nInscription : \n\n\n\n Par mail à volleygdr@gmail.com \n\n\n\nou \n\n\n\nPar Messenger sur notre page Facebook GDR Volley \n\n\n\nOn vous attend nombreux !
URL:https://29.fsgt.org/event/tournoi-de-la-rentree-gars-du-reun/
CATEGORIES:Tournoi
ATTACH;FMTTYPE=image/jpeg:https://29.fsgt.org/wp-content/uploads/2025/09/Tournoi-de-rentree-GDR-Volley-200925.jpg
ORGANIZER;CN="Gars du Reun - Volley":MAILTO:volleygdr@gmail.com
END:VEVENT
END:VCALENDAR