BEGIN:VCALENDAR
VERSION:2.0
PRODID:-//FSGT 29 - ECPv6.15.12.2//NONSGML v1.0//EN
CALSCALE:GREGORIAN
METHOD:PUBLISH
X-WR-CALNAME:FSGT 29
X-ORIGINAL-URL:https://29.fsgt.org
X-WR-CALDESC:Évènements pour FSGT 29
REFRESH-INTERVAL;VALUE=DURATION:PT1H
X-Robots-Tag:noindex
X-PUBLISHED-TTL:PT1H
BEGIN:VTIMEZONE
TZID:Europe/Paris
BEGIN:DAYLIGHT
TZOFFSETFROM:+0100
TZOFFSETTO:+0200
TZNAME:CEST
DTSTART:20250330T010000
END:DAYLIGHT
BEGIN:STANDARD
TZOFFSETFROM:+0200
TZOFFSETTO:+0100
TZNAME:CET
DTSTART:20251026T010000
END:STANDARD
BEGIN:DAYLIGHT
TZOFFSETFROM:+0100
TZOFFSETTO:+0200
TZNAME:CEST
DTSTART:20260329T010000
END:DAYLIGHT
BEGIN:STANDARD
TZOFFSETFROM:+0200
TZOFFSETTO:+0100
TZNAME:CET
DTSTART:20261025T010000
END:STANDARD
BEGIN:DAYLIGHT
TZOFFSETFROM:+0100
TZOFFSETTO:+0200
TZNAME:CEST
DTSTART:20270328T010000
END:DAYLIGHT
BEGIN:STANDARD
TZOFFSETFROM:+0200
TZOFFSETTO:+0100
TZNAME:CET
DTSTART:20271031T010000
END:STANDARD
END:VTIMEZONE
BEGIN:VEVENT
DTSTART;TZID=Europe/Paris:20260322T090000
DTEND;TZID=Europe/Paris:20260322T180000
DTSTAMP:20260422T184203
CREATED:20260310T140727Z
LAST-MODIFIED:20260310T140729Z
UID:3404-1774170000-1774202400@29.fsgt.org
SUMMARY:Circuit de Kerdeniel - courses cyclistes - Bourg Blanc
DESCRIPTION:Courses FSGT à 9h30 4\,5 Cadet et FémininesDépart décalé1\,2\, et 3ème catégorie
URL:https://29.fsgt.org/event/circuit-de-kerdeniel-courses-cyclistes-bourg-blanc/
CATEGORIES:Course
ATTACH;FMTTYPE=image/jpeg:https://29.fsgt.org/wp-content/uploads/2026/03/Circuit-Kerdeniel.jpg
ORGANIZER;CN="CC BOURG BLANC":MAILTO:yannicknedelec@orange.fr
END:VEVENT
END:VCALENDAR