BEGIN:VCALENDAR
VERSION:2.0
PRODID:-//FSGT 29 - ECPv6.15.12.2//NONSGML v1.0//EN
CALSCALE:GREGORIAN
METHOD:PUBLISH
X-ORIGINAL-URL:https://29.fsgt.org
X-WR-CALDESC:Évènements pour FSGT 29
REFRESH-INTERVAL;VALUE=DURATION:PT1H
X-Robots-Tag:noindex
X-PUBLISHED-TTL:PT1H
BEGIN:VTIMEZONE
TZID:Europe/Paris
BEGIN:DAYLIGHT
TZOFFSETFROM:+0100
TZOFFSETTO:+0200
TZNAME:CEST
DTSTART:20250330T010000
END:DAYLIGHT
BEGIN:STANDARD
TZOFFSETFROM:+0200
TZOFFSETTO:+0100
TZNAME:CET
DTSTART:20251026T010000
END:STANDARD
BEGIN:DAYLIGHT
TZOFFSETFROM:+0100
TZOFFSETTO:+0200
TZNAME:CEST
DTSTART:20260329T010000
END:DAYLIGHT
BEGIN:STANDARD
TZOFFSETFROM:+0200
TZOFFSETTO:+0100
TZNAME:CET
DTSTART:20261025T010000
END:STANDARD
BEGIN:DAYLIGHT
TZOFFSETFROM:+0100
TZOFFSETTO:+0200
TZNAME:CEST
DTSTART:20270328T010000
END:DAYLIGHT
BEGIN:STANDARD
TZOFFSETFROM:+0200
TZOFFSETTO:+0100
TZNAME:CET
DTSTART:20271031T010000
END:STANDARD
END:VTIMEZONE
BEGIN:VEVENT
DTSTART;TZID=Europe/Paris:20260426T073000
DTEND;TZID=Europe/Paris:20260426T180000
DTSTAMP:20260422T134025
CREATED:20260417T100928Z
LAST-MODIFIED:20260417T100930Z
UID:3621-1777188600-1777226400@29.fsgt.org
SUMMARY:Championnat Départemental VTT - 4ème Manche du Challenge Penn Ar Bed (jeunes&adultes) - Ploudalmezeau
DESCRIPTION:Le dimanche 26 avril\, le to2p organisera une manche du challenge Penn Ar Bed VTT 2026 (jeunes et adultes)\, elle fera office du championnat départemental 29.Epreuve réservée aux Licencié.es FSGTInscriptions 6 € par Adultes à partir de 7h30 // Inscriptions 2€ par Jeunes de 12h – 13h00 \n\n\n\nLe règlement officiel suivra mais à titre indicatif :
URL:https://29.fsgt.org/event/championnat-departemental-vtt-4eme-manche-du-challenge-penn-ar-bed-jeunesadultes-ploudalmezeau/
LOCATION:camping tréompan\, ploudalmezeau\, theven Cleguerien\, ploudalmezeau\, 29830\, France
CATEGORIES:Championnat,Concours
ATTACH;FMTTYPE=image/jpeg:https://29.fsgt.org/wp-content/uploads/2026/04/TO2P-26042026.jpeg
ORGANIZER;CN="Team Oxyg%C3%A8ne Ploudal Portsall":MAILTO:to2p29@gmail.com
END:VEVENT
END:VCALENDAR