BEGIN:VCALENDAR
VERSION:2.0
PRODID:-//FSGT 29 - ECPv6.15.12.2//NONSGML v1.0//EN
CALSCALE:GREGORIAN
METHOD:PUBLISH
X-WR-CALNAME:FSGT 29
X-ORIGINAL-URL:https://29.fsgt.org
X-WR-CALDESC:Évènements pour FSGT 29
REFRESH-INTERVAL;VALUE=DURATION:PT1H
X-Robots-Tag:noindex
X-PUBLISHED-TTL:PT1H
BEGIN:VTIMEZONE
TZID:Europe/Paris
BEGIN:DAYLIGHT
TZOFFSETFROM:+0100
TZOFFSETTO:+0200
TZNAME:CEST
DTSTART:20240331T010000
END:DAYLIGHT
BEGIN:STANDARD
TZOFFSETFROM:+0200
TZOFFSETTO:+0100
TZNAME:CET
DTSTART:20241027T010000
END:STANDARD
BEGIN:DAYLIGHT
TZOFFSETFROM:+0100
TZOFFSETTO:+0200
TZNAME:CEST
DTSTART:20250330T010000
END:DAYLIGHT
BEGIN:STANDARD
TZOFFSETFROM:+0200
TZOFFSETTO:+0100
TZNAME:CET
DTSTART:20251026T010000
END:STANDARD
BEGIN:DAYLIGHT
TZOFFSETFROM:+0100
TZOFFSETTO:+0200
TZNAME:CEST
DTSTART:20260329T010000
END:DAYLIGHT
BEGIN:STANDARD
TZOFFSETFROM:+0200
TZOFFSETTO:+0100
TZNAME:CET
DTSTART:20261025T010000
END:STANDARD
END:VTIMEZONE
BEGIN:VEVENT
DTSTART;TZID=Europe/Paris:20250606T200000
DTEND;TZID=Europe/Paris:20250606T230000
DTSTAMP:20260423T024756
CREATED:20250523T124454Z
LAST-MODIFIED:20250523T125217Z
UID:2751-1749240000-1749250800@29.fsgt.org
SUMMARY:FINALES DE COUPES VOLLEY FSGT À LESNEVEN LE VENDREDI 6 JUIN
DESCRIPTION:Le club de Lesneven organise le vendredi 6 juin ( à partir de 20h à la salle Yves Corre de Lesneven) les 3 finales de coupes FSGT. Le début des 2 premières finales (Consolante et Consolante Bis) sont à 20h suivi de la finale principale à 22h et d’un PPVR après chaque finale. Les équipes qualifiées sont : Principale : St Renan 1(A)-Lesneven 2(A) Consolante : Locmaria(B)-Ifremer SHOMAC 1(B) Consolante bis : Espérance(E)- Élorn VB 5. Buvette sur place. Venez nombreux. Entrée gratuite.
URL:https://29.fsgt.org/event/finales-de-coupes-volley-fsgt-a-lesneven-le-vendredi-6-juin/
CATEGORIES:Championnat
ATTACH;FMTTYPE=image/jpeg:https://29.fsgt.org/wp-content/uploads/2025/05/FINALES-DE-COUPE-VOLLEY-1.jpg
END:VEVENT
BEGIN:VEVENT
DTSTART;TZID=Europe/Paris:20250608T080000
DTEND;TZID=Europe/Paris:20250608T180000
DTSTAMP:20260423T024756
CREATED:20250527T124008Z
LAST-MODIFIED:20250527T124333Z
UID:2792-1749369600-1749405600@29.fsgt.org
SUMMARY:Challenge Penn ar bed n°8\, Championnat de Bretagne FSGT -Pleumeur Bodou
DESCRIPTION:la 8ème manche du Challenge de la PAB VTT FSGT et Le championnat régional de VTT se dérouleront le dimanche 8 juin 2025 à Pleumeur Bodou\, organisé par le Club Cyclos et VTT Pleumeurois.
URL:https://29.fsgt.org/event/challenge-penn-ar-bed-n8-championnat-de-bretagne-fsgt-pleumeur-bodou/
LOCATION:Pole Phoenix\, Pleumeur Bodou\, 22560\, France
CATEGORIES:Championnat
ATTACH;FMTTYPE=image/png:https://29.fsgt.org/wp-content/uploads/2025/05/Affiche-championnat-regional-VTT-FSGT-2025.png
END:VEVENT
BEGIN:VEVENT
DTSTART;TZID=Europe/Paris:20250622T090000
DTEND;TZID=Europe/Paris:20250622T180000
DTSTAMP:20260423T024756
CREATED:20250603T140750Z
LAST-MODIFIED:20250603T140822Z
UID:2816-1750582800-1750615200@29.fsgt.org
SUMMARY:Challenge Penn ar Bed n°10\, Saint- Martin-des-Champs\, les Finales
DESCRIPTION:La Finale de la PAB\, soit les « 10ème manche du Challenge de la PAB VTT FSGT Jeunes et Adultes » se dérouleront le dimanche 22 juin 2025 à St Martin des Champs\, organisée par le Club La Landivisienne Cycliste
URL:https://29.fsgt.org/event/challenge-penn-ar-bed-n10-saint-martin-des-champs/
LOCATION:Bois de Porz an Trez\, rue César Franck\, Saint-Martin-des-Champs\, 29600\, France
CATEGORIES:Championnat
ATTACH;FMTTYPE=image/png:https://29.fsgt.org/wp-content/uploads/2025/06/Landivisienne-Affiche-Finales-PAB-220625.png
END:VEVENT
END:VCALENDAR