BEGIN:VCALENDAR
VERSION:2.0
PRODID:-//FSGT 29 - ECPv6.15.12.2//NONSGML v1.0//EN
CALSCALE:GREGORIAN
METHOD:PUBLISH
X-ORIGINAL-URL:https://29.fsgt.org
X-WR-CALDESC:Évènements pour FSGT 29
REFRESH-INTERVAL;VALUE=DURATION:PT1H
X-Robots-Tag:noindex
X-PUBLISHED-TTL:PT1H
BEGIN:VTIMEZONE
TZID:Europe/Paris
BEGIN:DAYLIGHT
TZOFFSETFROM:+0100
TZOFFSETTO:+0200
TZNAME:CEST
DTSTART:20250330T010000
END:DAYLIGHT
BEGIN:STANDARD
TZOFFSETFROM:+0200
TZOFFSETTO:+0100
TZNAME:CET
DTSTART:20251026T010000
END:STANDARD
BEGIN:DAYLIGHT
TZOFFSETFROM:+0100
TZOFFSETTO:+0200
TZNAME:CEST
DTSTART:20260329T010000
END:DAYLIGHT
BEGIN:STANDARD
TZOFFSETFROM:+0200
TZOFFSETTO:+0100
TZNAME:CET
DTSTART:20261025T010000
END:STANDARD
BEGIN:DAYLIGHT
TZOFFSETFROM:+0100
TZOFFSETTO:+0200
TZNAME:CEST
DTSTART:20270328T010000
END:DAYLIGHT
BEGIN:STANDARD
TZOFFSETFROM:+0200
TZOFFSETTO:+0100
TZNAME:CET
DTSTART:20271031T010000
END:STANDARD
END:VTIMEZONE
BEGIN:VEVENT
DTSTART;TZID=Europe/Paris:20260527T190000
DTEND;TZID=Europe/Paris:20260527T223000
DTSTAMP:20260422T145749
CREATED:20260420T161148Z
LAST-MODIFIED:20260421T125744Z
UID:3628-1779908400-1779921000@29.fsgt.org
SUMMARY:Recyclage PSC (Prévention et Secours Citoyens) à la MDA de Brest
DESCRIPTION:Dans le cadre de nos actions de formation\, le comité FSGT 29 propose à ses adhérent·es une session de recyclage PSC (Prévention et Secours Citoyens)\, anciennement nommé PSC 1 ou AFPS. \n\n\n\nCette formation de remise à niveau s’adresse à toutes les personnes déjà titulaires du PSC (ou équivalent) souhaitant actualiser leurs connaissances et leurs gestes de premiers secours. Elle permet de revoir les conduites à tenir face aux situations d’urgence (perte de connaissance\, arrêt cardiaque\, hémorragie\, étouffement\, etc.) et d’intégrer les dernières recommandations en vigueur. \n\n\n\nIl est recommandé d’envisager un recyclage au bout de 5 ans d’obtention du diplôme initial.  \n\n\n\n📅 Date : Mercredi 27 mai 2026📍 Lieu : Maison des Associations\, 6 rue Pen ar Créac’h\, Brest ⏳ Durée : de 19h à 22h30💰 Tarif : gratuit\, il est pris en charge par le comité  \n\n\n\nSi vous êtes intéressé·e\, merci de nous le faire savoir\, en précisant : \n\n\n\n\nNom / Prénom\n\n\n\nClub\n\n\n\nNuméro de licence \n\n\n\nDate d’obtention de votre PSC1\n\n\n\n\nLa formation sera ouverte à 12 personnes\, par ordre d’arrivée des inscriptions.  \n\n\n\nPour plus de renseignements\, vous pouvez contacter Thibault :  \n\n\n\ndeveloppement@sportfsgt29.asso.fr \n\n\n\n06 51 83 73 54 \n\n\n\nNous comptons sur votre mobilisation pour continuer à faire de la FSGT 29 un espace sportif sûr et responsable.
URL:https://29.fsgt.org/event/recyclage-psc-prevention-et-secours-citoyens-mercredi-27-mai-a-la-mda-de-brest/
LOCATION:Maison des associations\, 6 rue Pen ar Créac'h\, Brest\, 29200\, France
CATEGORIES:Formation
ATTACH;FMTTYPE=image/jpeg:https://29.fsgt.org/wp-content/uploads/2026/04/PSC-Recyclage2026.jpg
ORGANIZER;CN="Comite FSGT 29":MAILTO:comite@sportfsgt29.asso.fr
END:VEVENT
END:VCALENDAR