BEGIN:VCALENDAR
VERSION:2.0
PRODID:-//FSGT 29 - ECPv6.15.12.2//NONSGML v1.0//EN
CALSCALE:GREGORIAN
METHOD:PUBLISH
X-WR-CALNAME:FSGT 29
X-ORIGINAL-URL:https://29.fsgt.org
X-WR-CALDESC:Évènements pour FSGT 29
REFRESH-INTERVAL;VALUE=DURATION:PT1H
X-Robots-Tag:noindex
X-PUBLISHED-TTL:PT1H
BEGIN:VTIMEZONE
TZID:Europe/Paris
BEGIN:DAYLIGHT
TZOFFSETFROM:+0100
TZOFFSETTO:+0200
TZNAME:CEST
DTSTART:20250330T010000
END:DAYLIGHT
BEGIN:STANDARD
TZOFFSETFROM:+0200
TZOFFSETTO:+0100
TZNAME:CET
DTSTART:20251026T010000
END:STANDARD
BEGIN:DAYLIGHT
TZOFFSETFROM:+0100
TZOFFSETTO:+0200
TZNAME:CEST
DTSTART:20260329T010000
END:DAYLIGHT
BEGIN:STANDARD
TZOFFSETFROM:+0200
TZOFFSETTO:+0100
TZNAME:CET
DTSTART:20261025T010000
END:STANDARD
BEGIN:DAYLIGHT
TZOFFSETFROM:+0100
TZOFFSETTO:+0200
TZNAME:CEST
DTSTART:20270328T010000
END:DAYLIGHT
BEGIN:STANDARD
TZOFFSETFROM:+0200
TZOFFSETTO:+0100
TZNAME:CET
DTSTART:20271031T010000
END:STANDARD
END:VTIMEZONE
BEGIN:VEVENT
DTSTART;TZID=Europe/Paris:20260501T090000
DTEND;TZID=Europe/Paris:20260501T140000
DTSTAMP:20260420T102304
CREATED:20260414T121311Z
LAST-MODIFIED:20260414T123757Z
UID:3608-1777626000-1777644000@29.fsgt.org
SUMMARY:Course La Gouesnousienne - 1er mai
DESCRIPTION:L’ Amicale Cycliste de Gouesnou vous invite pour leurs courses cyclistes FSGT du 1er mai. \n\n\n\nCatégories 1.2 et 3 : départ à 9h00 pour 9 tours de circuit soit 77 kmCatégories 4\, 5\, cadets et féminines : départ à 9h03 pour 7 tours de circuit soit 60 km. \n\n\n\nDépart situé au niveau du 55 rue Blaise Pascal zone de Penhoat PLABENNEC. \n\n\n\nPlan du circuit FSGT AC GOUESNOUTélécharger
URL:https://29.fsgt.org/event/course-la-gouesnousienne-1er-mai/
LOCATION:Zone de Penhoat\, 55 rue Blaise Pascal\, Plabennec\, 29860\, France
CATEGORIES:Course
ATTACH;FMTTYPE=image/jpeg:https://29.fsgt.org/wp-content/uploads/2026/04/AC-GOUESNOU-1-mai-2026.jpg
ORGANIZER;CN="AC GOUESNOU":MAILTO:acggouesnou@gmail.com
END:VEVENT
END:VCALENDAR