BEGIN:VCALENDAR
VERSION:2.0
PRODID:-//FSGT 29 - ECPv6.15.12.2//NONSGML v1.0//EN
CALSCALE:GREGORIAN
METHOD:PUBLISH
X-WR-CALNAME:FSGT 29
X-ORIGINAL-URL:https://29.fsgt.org
X-WR-CALDESC:Évènements pour FSGT 29
REFRESH-INTERVAL;VALUE=DURATION:PT1H
X-Robots-Tag:noindex
X-PUBLISHED-TTL:PT1H
BEGIN:VTIMEZONE
TZID:Europe/Paris
BEGIN:DAYLIGHT
TZOFFSETFROM:+0100
TZOFFSETTO:+0200
TZNAME:CEST
DTSTART:20240331T010000
END:DAYLIGHT
BEGIN:STANDARD
TZOFFSETFROM:+0200
TZOFFSETTO:+0100
TZNAME:CET
DTSTART:20241027T010000
END:STANDARD
BEGIN:DAYLIGHT
TZOFFSETFROM:+0100
TZOFFSETTO:+0200
TZNAME:CEST
DTSTART:20250330T010000
END:DAYLIGHT
BEGIN:STANDARD
TZOFFSETFROM:+0200
TZOFFSETTO:+0100
TZNAME:CET
DTSTART:20251026T010000
END:STANDARD
BEGIN:DAYLIGHT
TZOFFSETFROM:+0100
TZOFFSETTO:+0200
TZNAME:CEST
DTSTART:20260329T010000
END:DAYLIGHT
BEGIN:STANDARD
TZOFFSETFROM:+0200
TZOFFSETTO:+0100
TZNAME:CET
DTSTART:20261025T010000
END:STANDARD
END:VTIMEZONE
BEGIN:VEVENT
DTSTART;TZID=Europe/Paris:20250427T073000
DTEND;TZID=Europe/Paris:20250427T120000
DTSTAMP:20260423T031100
CREATED:20250401T152027Z
LAST-MODIFIED:20250401T152431Z
UID:2342-1745739000-1745755200@29.fsgt.org
SUMMARY:Brevet "Souvenir Victor Thoribé" - Plouneventer
DESCRIPTION:Vélo Sport Plounéventer organise le Brevet « Souvenir Victor Thoribé »Le Dimanche 27 avrilInscriptions à partir de 07h30Salle du terrain de foot \n\n\n\nParcours 50km : Départ 8h30Parcours 75 km : Départ 8h15 par groupe de 20 personnesParcours 100 km : Départ à 8 H par groupe de 20 personnes
URL:https://29.fsgt.org/event/brevet-souvenir-victor-thoribe-plouneventer/
LOCATION:Brevet le 27/04/2025\, rue du Stade\, Plouneventer\, 29400\, France
ATTACH;FMTTYPE=image/jpeg:https://29.fsgt.org/wp-content/uploads/2025/04/VS-PLOUNEVENTER-AFFICHE-rando-27-avril-2025.jpg
END:VEVENT
BEGIN:VEVENT
DTSTART;TZID=Europe/Paris:20250427T133000
DTEND;TZID=Europe/Paris:20250427T170000
DTSTAMP:20260423T031100
CREATED:20250403T081105Z
LAST-MODIFIED:20250403T081107Z
UID:2555-1745760600-1745773200@29.fsgt.org
SUMMARY:FESTI'SPORT 2025
DESCRIPTION:Pour la 21ème année\, le Comité FSGT du Finistère et le Foyer Laïque de St-Marc proposeront une après-midi de découverte des activités sportives et artistiques en direction des enfants et des parents de la ville de Brest et de Brest métropole le Dimanche 27 AVRIL 2025 de 13h30 à 17h.  \n\n\n\nFESTI’SPORT 2025 sera organisée en partenariat avec 9 clubs sportifs brestois et nous proposerons la découverte de 14 activités sportives et artistiques pour les enfants de 2 à 11 ans.  \n\n\n\nCes activités seront encadrées par une équipe de 100 animateurs et animatrices bénévoles des clubs partenaires. Cette manifestation a pour ambition de faire découvrir une pratique sportive aux enfants et aux jeunes de la ville de Brest et de Brest Métropole en mettant l’accent sur le plaisir de pratiquer entre enfant et en famille\, la solidarité\, la coopération\, la rencontre humaine et la découverte.  \n\n\n\nFESTI’SPORT 2025 mettra en avant la dynamique associative au service des familles brestoises et permettra à tous les enfants de venir découvrir et essayer des activités sportives de proximité. FESTI’SPORT 2025 sera l’occasion\, pour les familles\, de découvrir des pratiques sportives collectives ( Basket\, Volley-ball\, Base-ball\, Rugby ) \, des sports individuels et artistiques ( Kung-Fu\, Karaté\, Gym sportive\, Jumping\, Légo )\, des sports moins accessibles pour tous ( Plongée\, Escalade\, Natation ) et des activités Handi’sport. De plus\, nous proposerons un espace pour les plus petits ( 2 à 4 ans ) autour de l’éveil sportif et d’un parcours de motricité.
URL:https://29.fsgt.org/event/festisport-2025/
LOCATION:Gymnase Guéguéniat\, Salle Guéguéniat\, Rue de Quimper\, Brest\, France
ATTACH;FMTTYPE=image/jpeg:https://29.fsgt.org/wp-content/uploads/2025/04/AFFICHE-FESTISPORT-20251.jpg
END:VEVENT
END:VCALENDAR